BEGIN:VCALENDAR
VERSION:2.0
PRODID:-//DISID - ECPv5.1.1//NONSGML v1.0//EN
CALSCALE:GREGORIAN
METHOD:PUBLISH
X-WR-CALNAME:DISID
X-ORIGINAL-URL:https://disid.guam.gov
X-WR-CALDESC:Events for DISID
BEGIN:VTIMEZONE
TZID:Pacific/Guam
BEGIN:STANDARD
TZOFFSETFROM:+1000
TZOFFSETTO:+1000
TZNAME:ChST
DTSTART:20210101T000000
END:STANDARD
END:VTIMEZONE
BEGIN:VEVENT
DTSTART;TZID=Pacific/Guam:20211022T100000
DTEND;TZID=Pacific/Guam:20211022T110000
DTSTAMP:20260424T175712
CREATED:20211012T124517Z
LAST-MODIFIED:20211012T124545Z
UID:3828-1634896800-1634900400@disid.guam.gov
SUMMARY:EMPLOYER EXPECTATIONS & TRENDS IN HIRING POTENTIAL EMPLOYEES
DESCRIPTION:10 AM EMPLOYER EXPECTATIONS & TRENDS IN HIRING POTENTIAL EMPLOYEES \n(virtual) Ele Magdael / Lea Panes\, Presenters  \nJoin Zoom Meeting\nhttps://us02web.zoom.us/j/88572418221?pwd=NzVlTVpMUW0rS0lneVZkUEUrSDZJZz09\nMeeting ID: 885 7241 8221\nPasscode: 531734 \nEMPLOYER EXPECTATIONS AND TRENDS IN HIRING POTENTIAL EMPLOYEES\nEle Magdael\, Human Resources Manager; Hotel Nikko Guam\nLea Panes\, Human Resources Manager\, The Tsubaki Tower\nAttendees: employers\, clients and students\, potential clients of disabilities \n  \n
URL:https://disid.guam.gov/event/employer-expectations-trends-in-hiring-potential-employees/
ATTACH;FMTTYPE=image/png:https://disid.guam.gov/wp-disid-content/uploads/2021/09/DISID_logo.png
END:VEVENT
END:VCALENDAR