BEGIN:VCALENDAR
VERSION:2.0
PRODID:-//DISID - ECPv5.1.1//NONSGML v1.0//EN
CALSCALE:GREGORIAN
METHOD:PUBLISH
X-WR-CALNAME:DISID
X-ORIGINAL-URL:https://disid.guam.gov
X-WR-CALDESC:Events for DISID
BEGIN:VTIMEZONE
TZID:Europe/Paris
BEGIN:DAYLIGHT
TZOFFSETFROM:+0100
TZOFFSETTO:+0200
TZNAME:CEST
DTSTART:20210328T010000
END:DAYLIGHT
BEGIN:STANDARD
TZOFFSETFROM:+0200
TZOFFSETTO:+0100
TZNAME:CET
DTSTART:20211031T010000
END:STANDARD
END:VTIMEZONE
BEGIN:VEVENT
DTSTART;TZID=Europe/Paris:20211015T100000
DTEND;TZID=Europe/Paris:20211015T110000
DTSTAMP:20260424T193106
CREATED:20211012T123557Z
LAST-MODIFIED:20211012T124823Z
UID:3824-1634292000-1634295600@disid.guam.gov
SUMMARY:PROCLAMATION SIGNING
DESCRIPTION:10AM VIRTUAL  \nPROCLAMATION SIGNING \nLINK TO BE PROVIDED BY GOVERNOR’S OFFICE\nProclamation Signing NDEAM Month\nVirtual presentation / Governor’s office \n  \n
URL:https://disid.guam.gov/event/proclamation-signing/
ATTACH;FMTTYPE=image/png:https://disid.guam.gov/wp-disid-content/uploads/2021/09/DISID_logo.png
END:VEVENT
END:VCALENDAR