BEGIN:VCALENDAR
VERSION:2.0
PRODID:-//DISID - ECPv5.1.1//NONSGML v1.0//EN
CALSCALE:GREGORIAN
METHOD:PUBLISH
X-WR-CALNAME:DISID
X-ORIGINAL-URL:https://disid.guam.gov
X-WR-CALDESC:Events for DISID
BEGIN:VTIMEZONE
TZID:UTC
BEGIN:STANDARD
TZOFFSETFROM:+0000
TZOFFSETTO:+0000
TZNAME:UTC
DTSTART:20180101T000000
END:STANDARD
END:VTIMEZONE
BEGIN:VEVENT
DTSTART;TZID=UTC:20180724T090000
DTEND;TZID=UTC:20180724T110000
DTSTAMP:20260423T064729
CREATED:20180628T150626Z
LAST-MODIFIED:20180628T150626Z
UID:3153-1532422800-1532430000@disid.guam.gov
SUMMARY:"The Reasonable Accommodations Process" presented by GLSC Atty. Robert Cruz
DESCRIPTION:“The Reasonable Accommodations Process” presented by GLSC Atty. Robert Cruz \nTues.\, July 24th (9-11am) \n
URL:https://disid.guam.gov/event/the-reasonable-accommodations-process-presented-by-glsc-atty-robert-cruz/
LOCATION:DVR Conf. Room 6th Floor DNA Bldg.
CATEGORIES:Conference/Workshop
END:VEVENT
END:VCALENDAR