BEGIN:VCALENDAR
VERSION:2.0
PRODID:-//DISID - ECPv5.1.1//NONSGML v1.0//EN
CALSCALE:GREGORIAN
METHOD:PUBLISH
X-WR-CALNAME:DISID
X-ORIGINAL-URL:https://disid.guam.gov
X-WR-CALDESC:Events for DISID
BEGIN:VTIMEZONE
TZID:UTC
BEGIN:STANDARD
TZOFFSETFROM:+0000
TZOFFSETTO:+0000
TZNAME:UTC
DTSTART:20180101T000000
END:STANDARD
END:VTIMEZONE
BEGIN:VEVENT
DTSTART;TZID=UTC:20180713T090000
DTEND;TZID=UTC:20180713T110000
DTSTAMP:20260422T201029
CREATED:20180628T144632Z
LAST-MODIFIED:20180628T144632Z
UID:3146-1531472400-1531479600@disid.guam.gov
SUMMARY:"Rules Related to Service Animals" presented by Ms. Shannon Selene
DESCRIPTION:“Rules Related to Service Animals” presented by Ms. Shannon Selene \nFrid.\, July 13th (9-11am) \n
URL:https://disid.guam.gov/event/rules-related-to-service-animals-presented-by-ms-shannon-selene/
LOCATION:DVR Conf. Room 6th Floor DNA Bldg.
CATEGORIES:Conference/Workshop
END:VEVENT
END:VCALENDAR