BEGIN:VCALENDAR
VERSION:2.0
PRODID:-//DISID - ECPv5.1.1//NONSGML v1.0//EN
CALSCALE:GREGORIAN
METHOD:PUBLISH
X-WR-CALNAME:DISID
X-ORIGINAL-URL:https://disid.guam.gov
X-WR-CALDESC:Events for DISID
BEGIN:VTIMEZONE
TZID:UTC
BEGIN:STANDARD
TZOFFSETFROM:+0000
TZOFFSETTO:+0000
TZNAME:UTC
DTSTART:20180101T000000
END:STANDARD
END:VTIMEZONE
BEGIN:VEVENT
DTSTART;TZID=UTC:20180716T090000
DTEND;TZID=UTC:20180716T110000
DTSTAMP:20260422T214112
CREATED:20180628T144812Z
LAST-MODIFIED:20180628T144812Z
UID:3147-1531731600-1531738800@disid.guam.gov
SUMMARY:"Rights of Individuals with Disabilities" presented by GLSC Atty. Hank Parker
DESCRIPTION:“Rights of Individuals with Disabilities” presented by GLSC Atty. Hank Parker \nMon.\, July 16th (9-11am) \n
URL:https://disid.guam.gov/event/rights-of-individuals-with-disabilities-presented-by-glsc-atty-hank-parker/
LOCATION:DVR Conf. Room 6th Floor DNA Bldg.
CATEGORIES:Conference/Workshop
END:VEVENT
END:VCALENDAR