BEGIN:VCALENDAR
VERSION:2.0
PRODID:-//DISID - ECPv5.1.1//NONSGML v1.0//EN
CALSCALE:GREGORIAN
METHOD:PUBLISH
X-WR-CALNAME:DISID
X-ORIGINAL-URL:https://disid.guam.gov
X-WR-CALDESC:Events for DISID
BEGIN:VTIMEZONE
TZID:UTC
BEGIN:STANDARD
TZOFFSETFROM:+0000
TZOFFSETTO:+0000
TZNAME:UTC
DTSTART:20170101T000000
END:STANDARD
END:VTIMEZONE
BEGIN:VEVENT
DTSTART;TZID=UTC:20171025T090000
DTEND;TZID=UTC:20171025T113000
DTSTAMP:20260423T070217
CREATED:20171002T082442Z
LAST-MODIFIED:20171002T082442Z
UID:3046-1508922000-1508931000@disid.guam.gov
SUMMARY:Rights of Individuals with Disabilities (Attorney Robert Cruz\, GLSC)
DESCRIPTION:
URL:https://disid.guam.gov/event/rights-of-individuals-with-disabilities-attorney-robert-cruz-glsc/
LOCATION:DVR Conf. Room 6th Floor DNA Bldg.
END:VEVENT
END:VCALENDAR