BEGIN:VCALENDAR
VERSION:2.0
PRODID:-//DISID - ECPv5.1.1//NONSGML v1.0//EN
CALSCALE:GREGORIAN
METHOD:PUBLISH
X-WR-CALNAME:DISID
X-ORIGINAL-URL:https://disid.guam.gov
X-WR-CALDESC:Events for DISID
BEGIN:VTIMEZONE
TZID:UTC
BEGIN:STANDARD
TZOFFSETFROM:+0000
TZOFFSETTO:+0000
TZNAME:UTC
DTSTART:20180101T000000
END:STANDARD
END:VTIMEZONE
BEGIN:VEVENT
DTSTART;TZID=UTC:20180709T090000
DTEND;TZID=UTC:20180709T110000
DTSTAMP:20210430T223845
CREATED:20180629T003837Z
LAST-MODIFIED:20180629T003837Z
UID:3143-1531126800-1531134000@disid.guam.gov
SUMMARY:"Reasonable Accommodations" presented by GLSC Atty. Eric Miller
DESCRIPTION:“Reasonable Accommodations” presented by GLSC Atty. Eric Miller \nMon.\, July 9th (9am-11am)  \n
URL:https://disid.guam.gov/event/reasonable-accommodations-presented-by-glsc-atty-eric-miller/
LOCATION:DVR Conf. Room 6th Floor DNA Bldg.
CATEGORIES:Conference/Workshop
END:VEVENT
END:VCALENDAR