BEGIN:VCALENDAR
VERSION:2.0
PRODID:-//DISID - ECPv5.1.1//NONSGML v1.0//EN
CALSCALE:GREGORIAN
METHOD:PUBLISH
X-WR-CALNAME:DISID
X-ORIGINAL-URL:https://disid.guam.gov
X-WR-CALDESC:Events for DISID
BEGIN:VTIMEZONE
TZID:UTC
BEGIN:STANDARD
TZOFFSETFROM:+0000
TZOFFSETTO:+0000
TZNAME:UTC
DTSTART:20170101T000000
END:STANDARD
END:VTIMEZONE
BEGIN:VEVENT
DTSTART;TZID=UTC:20171012T100000
DTEND;TZID=UTC:20171012T113000
DTSTAMP:20260426T025034
CREATED:20171002T080326Z
LAST-MODIFIED:20171002T080326Z
UID:3037-1507802400-1507807800@disid.guam.gov
SUMMARY:Protection and Advocacy for Beneficiaries of Social Security (PABSS) (Attorney Eric Miller\, GLSC)
DESCRIPTION:
URL:https://disid.guam.gov/event/protection-and-advocacy-for-beneficiaries-of-social-security-pabss-attorney-eric-miller-glsc/
LOCATION:DVR Conf. Room 6th Floor DNA Bldg.
END:VEVENT
END:VCALENDAR