BEGIN:VCALENDAR
VERSION:2.0
PRODID:-//DISID - ECPv5.1.1//NONSGML v1.0//EN
CALSCALE:GREGORIAN
METHOD:PUBLISH
X-WR-CALNAME:DISID
X-ORIGINAL-URL:https://disid.guam.gov
X-WR-CALDESC:Events for DISID
BEGIN:VTIMEZONE
TZID:UTC
BEGIN:STANDARD
TZOFFSETFROM:+0000
TZOFFSETTO:+0000
TZNAME:UTC
DTSTART:20170101T000000
END:STANDARD
END:VTIMEZONE
BEGIN:VEVENT
DTSTART;TZID=UTC:20171013T090000
DTEND;TZID=UTC:20171013T110000
DTSTAMP:20260426T010719
CREATED:20171002T080644Z
LAST-MODIFIED:20171002T080644Z
UID:3038-1507885200-1507892400@disid.guam.gov
SUMMARY:Preparing for a Job Interview/Simulated Mock Interview (Pacific Human Resources\, Inc.)
DESCRIPTION:
URL:https://disid.guam.gov/event/preparing-for-a-job-interviewsimulated-mock-interview-pacific-human-resources-inc/
LOCATION:DVR Conf. Room 6th Floor DNA Bldg.
END:VEVENT
END:VCALENDAR