BEGIN:VCALENDAR
VERSION:2.0
PRODID:-//DISID - ECPv5.1.1//NONSGML v1.0//EN
CALSCALE:GREGORIAN
METHOD:PUBLISH
X-WR-CALNAME:DISID
X-ORIGINAL-URL:https://disid.guam.gov
X-WR-CALDESC:Events for DISID
BEGIN:VTIMEZONE
TZID:UTC
BEGIN:STANDARD
TZOFFSETFROM:+0000
TZOFFSETTO:+0000
TZNAME:UTC
DTSTART:20170101T000000
END:STANDARD
END:VTIMEZONE
BEGIN:VEVENT
DTSTART;TZID=UTC:20171031T090000
DTEND;TZID=UTC:20171031T150000
DTSTAMP:20260422T233610
CREATED:20171002T083226Z
LAST-MODIFIED:20171002T083226Z
UID:3051-1509440400-1509462000@disid.guam.gov
SUMMARY:Job Placement Circle Recruitment Fair for Applicants with Disabilities (DOL\, AJC/CAN\, PARI)
DESCRIPTION:
URL:https://disid.guam.gov/event/job-placement-circle-recruitment-fair-for-applicants-with-disabilities-dol-ajccan-pari/
LOCATION:DVR Conf. Room 6th Floor DNA Bldg.
END:VEVENT
END:VCALENDAR