BEGIN:VCALENDAR
VERSION:2.0
PRODID:-//DISID - ECPv5.1.1//NONSGML v1.0//EN
CALSCALE:GREGORIAN
METHOD:PUBLISH
X-WR-CALNAME:DISID
X-ORIGINAL-URL:https://disid.guam.gov
X-WR-CALDESC:Events for DISID
BEGIN:VTIMEZONE
TZID:UTC
BEGIN:STANDARD
TZOFFSETFROM:+0000
TZOFFSETTO:+0000
TZNAME:UTC
DTSTART:20180101T000000
END:STANDARD
END:VTIMEZONE
BEGIN:VEVENT
DTSTART;TZID=UTC:20181220T100000
DTEND;TZID=UTC:20181220T140000
DTSTAMP:20260426T025209
CREATED:20181205T175829Z
LAST-MODIFIED:20181205T175829Z
UID:3236-1545300000-1545314400@disid.guam.gov
SUMMARY:Guam State Rehabilitation Council General Membership Meeting & Appreciation Luncheon
DESCRIPTION:The Guam State Rehabilitation Council is holding a General Membership meeting immediately followed by an appreciation luncheon for D.I.S.I.D. Director\, Mr. Benito S. Servino for his years of service as DISID Director at the DVR Conference room.on the 6th floor of the DNA building in Hagatna! for special accommodations call 475-4646. \n \n \n \n
URL:https://disid.guam.gov/event/guam-state-rehabilitation-council-general-membership-meeting-appreciation-luncheon/
LOCATION:DVR Conf. Room 6th Floor DNA Bldg.
END:VEVENT
END:VCALENDAR