BEGIN:VCALENDAR
VERSION:2.0
PRODID:-//DISID - ECPv5.1.1//NONSGML v1.0//EN
CALSCALE:GREGORIAN
METHOD:PUBLISH
X-WR-CALNAME:DISID
X-ORIGINAL-URL:https://disid.guam.gov
X-WR-CALDESC:Events for DISID
BEGIN:VTIMEZONE
TZID:UTC
BEGIN:STANDARD
TZOFFSETFROM:+0000
TZOFFSETTO:+0000
TZNAME:UTC
DTSTART:20190101T000000
END:STANDARD
END:VTIMEZONE
BEGIN:VEVENT
DTSTART;TZID=UTC:20190220T090000
DTEND;TZID=UTC:20190220T103000
DTSTAMP:20260425T005835
CREATED:20181230T194509Z
LAST-MODIFIED:20181230T194509Z
UID:3259-1550653200-1550658600@disid.guam.gov
SUMMARY:Guam Developmental Disabilities Council Exec. Committee meeting
DESCRIPTION:  \n \n
URL:https://disid.guam.gov/event/guam-developmental-disabilities-council-exec-committee-meeting/
LOCATION:5th Floor Conference Room\, GCIC Building\,\,  Guam\,  Hagåtña\, 96910\, Guam
END:VEVENT
END:VCALENDAR