BEGIN:VCALENDAR
VERSION:2.0
PRODID:-//DISID - ECPv5.1.1//NONSGML v1.0//EN
CALSCALE:GREGORIAN
METHOD:PUBLISH
X-WR-CALNAME:DISID
X-ORIGINAL-URL:https://disid.guam.gov
X-WR-CALDESC:Events for DISID
BEGIN:VTIMEZONE
TZID:UTC
BEGIN:STANDARD
TZOFFSETFROM:+0000
TZOFFSETTO:+0000
TZNAME:UTC
DTSTART:20190101T000000
END:STANDARD
END:VTIMEZONE
BEGIN:VEVENT
DTSTART;TZID=UTC:20190802T090000
DTEND;TZID=UTC:20190802T103000
DTSTAMP:20210427T211600
CREATED:20181231T062026Z
LAST-MODIFIED:20190523T031045Z
UID:3266-1564736400-1564741800@disid.guam.gov
SUMMARY:G.D.D.C. Exec. Committee Meeting
DESCRIPTION:GDDC Conference Room \n \n
URL:https://disid.guam.gov/event/g-d-dc-exec-committee-meeting/
LOCATION:5th Floor Conference Room\, GCIC Building\,\,  Guam\,  Hagåtña\, 96910\, Guam
END:VEVENT
END:VCALENDAR