BEGIN:VCALENDAR
VERSION:2.0
PRODID:-//DISID - ECPv5.1.1//NONSGML v1.0//EN
CALSCALE:GREGORIAN
METHOD:PUBLISH
X-WR-CALNAME:DISID
X-ORIGINAL-URL:https://disid.guam.gov
X-WR-CALDESC:Events for DISID
BEGIN:VTIMEZONE
TZID:UTC
BEGIN:STANDARD
TZOFFSETFROM:+0000
TZOFFSETTO:+0000
TZNAME:UTC
DTSTART:20190101T000000
END:STANDARD
END:VTIMEZONE
BEGIN:VEVENT
DTSTART;TZID=UTC:20190515T090000
DTEND;TZID=UTC:20190515T103000
DTSTAMP:20260425T174046
CREATED:20181230T200251Z
LAST-MODIFIED:20181230T200251Z
UID:3263-1557910800-1557916200@disid.guam.gov
SUMMARY:G. D. D. C. Exec. Committee Meeting
DESCRIPTION:G. D. D. C. conference Room\, GCIC Building. \n \n
URL:https://disid.guam.gov/event/g-d-d-c-exec-committee-meeting/
LOCATION:5th Floor Conference Room\, GCIC Building\,\,  Guam\,  Hagåtña\, 96910\, Guam
END:VEVENT
END:VCALENDAR