BEGIN:VCALENDAR
VERSION:2.0
PRODID:-//DISID - ECPv5.1.1//NONSGML v1.0//EN
CALSCALE:GREGORIAN
METHOD:PUBLISH
X-WR-CALNAME:DISID
X-ORIGINAL-URL:https://disid.guam.gov
X-WR-CALDESC:Events for DISID
BEGIN:VTIMEZONE
TZID:UTC
BEGIN:STANDARD
TZOFFSETFROM:+0000
TZOFFSETTO:+0000
TZNAME:UTC
DTSTART:20180101T000000
END:STANDARD
END:VTIMEZONE
BEGIN:VEVENT
DTSTART;TZID=UTC:20180705T090000
DTEND;TZID=UTC:20180705T110000
DTSTAMP:20260422T200836
CREATED:20180628T143522Z
LAST-MODIFIED:20180628T143522Z
UID:3141-1530781200-1530788400@disid.guam.gov
SUMMARY:"Employer Responsibilities" presented by GLSC Atty. James Baldwin
DESCRIPTION:“Employer Responsibilities” presented by GLSC Atty. James Baldwin \nDISID/DVR 6th Floor Conf. Rm.\, DNA Bldg.\, Hagatna \nThurs.\, July 5th (9-11am) \n
URL:https://disid.guam.gov/event/employer-responsibilities-presented-by-glsc-atty-james-baldwin/
LOCATION:DVR Conf. Room 6th Floor DNA Bldg.
CATEGORIES:Conference/Workshop
END:VEVENT
END:VCALENDAR