BEGIN:VCALENDAR
VERSION:2.0
PRODID:-//DISID - ECPv5.1.1//NONSGML v1.0//EN
CALSCALE:GREGORIAN
METHOD:PUBLISH
X-WR-CALNAME:DISID
X-ORIGINAL-URL:https://disid.guam.gov
X-WR-CALDESC:Events for DISID
BEGIN:VTIMEZONE
TZID:UTC
BEGIN:STANDARD
TZOFFSETFROM:+0000
TZOFFSETTO:+0000
TZNAME:UTC
DTSTART:20180101T000000
END:STANDARD
END:VTIMEZONE
BEGIN:VEVENT
DTSTART;TZID=UTC:20181024T080000
DTEND;TZID=UTC:20181024T153000
DTSTAMP:20260423T220331
CREATED:20181021T123915Z
LAST-MODIFIED:20181021T123915Z
UID:3200-1540368000-1540395000@disid.guam.gov
SUMMARY:Employer Conference & Community Resource Fair
DESCRIPTION:An “Employer Conference & Community Resource Fair” targeting the needs of the Federal Govt.\, GovGuam\, Federal Contractors\, and Private Employers which is scheduled for Wednesday\, October 24th\, 2018 from 8am -3:30pm at the Hotel Nikko Guam. Workshops on Disability Sensitivity Awareness\, Employer Responsibilities under the ADA\, Employer-Employee Panel Presentation\, Assistive Technology Utilization\, Federal Contractor’s compliance with\nSection 503 of the Rehab Act\, and a Resource Fair. For more Info contact: PHRS at: 637-6906. \n
URL:https://disid.guam.gov/event/employer-conference-community-resource-fair/
LOCATION:Hotel Nikko Guam
CATEGORIES:Conference/Workshop
END:VEVENT
END:VCALENDAR