BEGIN:VCALENDAR
VERSION:2.0
PRODID:-//DISID - ECPv5.1.1//NONSGML v1.0//EN
CALSCALE:GREGORIAN
METHOD:PUBLISH
X-WR-CALNAME:DISID
X-ORIGINAL-URL:https://disid.guam.gov
X-WR-CALDESC:Events for DISID
BEGIN:VTIMEZONE
TZID:UTC
BEGIN:STANDARD
TZOFFSETFROM:+0000
TZOFFSETTO:+0000
TZNAME:UTC
DTSTART:20170101T000000
END:STANDARD
END:VTIMEZONE
BEGIN:VEVENT
DTSTART;TZID=UTC:20171003T090000
DTEND;TZID=UTC:20171003T103000
DTSTAMP:20260425T040330
CREATED:20171002T075345Z
LAST-MODIFIED:20171002T075345Z
UID:3031-1507021200-1507026600@disid.guam.gov
SUMMARY:DVR Program Services Orientation (DISID/DVR/DSS Staff)
DESCRIPTION:
URL:https://disid.guam.gov/event/dvr-program-services-orientation-disiddvrdss-staff/
LOCATION:DVR Conf. Room 6th Floor DNA Bldg.
END:VEVENT
END:VCALENDAR