BEGIN:VCALENDAR
VERSION:2.0
PRODID:-//DISID - ECPv5.1.1//NONSGML v1.0//EN
CALSCALE:GREGORIAN
METHOD:PUBLISH
X-WR-CALNAME:DISID
X-ORIGINAL-URL:https://disid.guam.gov
X-WR-CALDESC:Events for DISID
BEGIN:VTIMEZONE
TZID:UTC
BEGIN:STANDARD
TZOFFSETFROM:+0000
TZOFFSETTO:+0000
TZNAME:UTC
DTSTART:20200101T000000
END:STANDARD
END:VTIMEZONE
BEGIN:VEVENT
DTSTART;TZID=UTC:20200407T090000
DTEND;TZID=UTC:20200407T100000
DTSTAMP:20260424T194958
CREATED:20200106T174220Z
LAST-MODIFIED:20200106T175740Z
UID:3429-1586250000-1586253600@disid.guam.gov
SUMMARY:DVR OPEN ORIENTATION
DESCRIPTION:DVR’s Mission is to enable eligible individuals with disabilities\, especially individuals with significant disabilities\, to achieve employment and community independence through the provision of quality vocational rehabilitation services. Please attend DVR’s Open Orientation 1st Tuesday of every Quarter (October 2019\, January 2020\, April 2020\, July 2020) at 9:00 a.m. to see if you are eligible for vocational rehabilitation services. For more information call: (T) 475-5735/38 / (TDD) 477-8642. \n \n \n
URL:https://disid.guam.gov/event/dvr-open-orientation-6/
LOCATION:DVR Conf. Room 6th Floor DNA Bldg.
END:VEVENT
END:VCALENDAR