BEGIN:VCALENDAR
VERSION:2.0
PRODID:-//DISID - ECPv5.1.1//NONSGML v1.0//EN
CALSCALE:GREGORIAN
METHOD:PUBLISH
X-WR-CALNAME:DISID
X-ORIGINAL-URL:https://disid.guam.gov
X-WR-CALDESC:Events for DISID
BEGIN:VTIMEZONE
TZID:UTC
BEGIN:STANDARD
TZOFFSETFROM:+0000
TZOFFSETTO:+0000
TZNAME:UTC
DTSTART:20190101T000000
END:STANDARD
END:VTIMEZONE
BEGIN:VEVENT
DTSTART;TZID=UTC:20191001T090000
DTEND;TZID=UTC:20191001T100000
DTSTAMP:20210427T211800
CREATED:20190611T010644Z
LAST-MODIFIED:20190814T053927Z
UID:3321-1569920400-1569924000@disid.guam.gov
SUMMARY:DVR Open Orientation
DESCRIPTION:DVR’s Mission is to enable eligible individuals with disabilities\, especially individuals with significant disabilities\, to achieve employment and community independence through the provision of quality vocational rehabilitation services. \nPlease attend DVR’s Open Orientation 1st Tuesday of every Quarter (January\, April\, July\, October) at 9:00 a.m. to see if you are eligible for vocational rehabilitation services. \nFor more information call: (T) 475-5735/38 / (TDD) 477-8642. \n \n \n
URL:https://disid.guam.gov/event/dvr-open-orientation-4/
LOCATION:DVR Conf. Room 6th Floor DNA Bldg.
END:VEVENT
END:VCALENDAR