BEGIN:VCALENDAR
VERSION:2.0
PRODID:-//DISID - ECPv5.1.1//NONSGML v1.0//EN
CALSCALE:GREGORIAN
METHOD:PUBLISH
X-WR-CALNAME:DISID
X-ORIGINAL-URL:https://disid.guam.gov
X-WR-CALDESC:Events for DISID
BEGIN:VTIMEZONE
TZID:UTC
BEGIN:STANDARD
TZOFFSETFROM:+0000
TZOFFSETTO:+0000
TZNAME:UTC
DTSTART:20180101T000000
END:STANDARD
END:VTIMEZONE
BEGIN:VEVENT
DTSTART;TZID=UTC:20180723T080000
DTEND;TZID=UTC:20180723T170000
DTSTAMP:20260423T032113
CREATED:20180628T150327Z
LAST-MODIFIED:20180628T150342Z
UID:3152-1532332800-1532365200@disid.guam.gov
SUMMARY:"Disability Awareness" presented by DISID Director\, Ben S. Servino
DESCRIPTION:“Disability Awareness” presented by DISID Director\, Ben S. Servino \nTues.\, July 23rd (9-11am) \n
URL:https://disid.guam.gov/event/disability-awareness-presented-by-disid-director-ben-s-servino/
LOCATION:DVR Conf. Room 6th Floor DNA Bldg.
CATEGORIES:Conference/Workshop
END:VEVENT
END:VCALENDAR