BEGIN:VCALENDAR
VERSION:2.0
PRODID:-//DISID - ECPv5.1.1//NONSGML v1.0//EN
CALSCALE:GREGORIAN
METHOD:PUBLISH
X-WR-CALNAME:DISID
X-ORIGINAL-URL:https://disid.guam.gov
X-WR-CALDESC:Events for DISID
BEGIN:VTIMEZONE
TZID:UTC
BEGIN:STANDARD
TZOFFSETFROM:+0000
TZOFFSETTO:+0000
TZNAME:UTC
DTSTART:20170101T000000
END:STANDARD
END:VTIMEZONE
BEGIN:VEVENT
DTSTART;TZID=UTC:20171011T080000
DTEND;TZID=UTC:20171011T163000
DTSTAMP:20260425T025528
CREATED:20171002T074734Z
LAST-MODIFIED:20171002T075025Z
UID:3027-1507708800-1507739400@disid.guam.gov
SUMMARY:Conference and Resource Display of Employment Services Targeted Towards Employers and Job Seekers with Disabilities
DESCRIPTION:Conference Information \n
URL:https://disid.guam.gov/event/conference-and-resource-display-of-employment-services-targeted-towards-employers-and-job-seekers-with-disabilities/
LOCATION:Hotel Nikko Guam
CATEGORIES:Conference/Workshop
END:VEVENT
END:VCALENDAR