BEGIN:VCALENDAR
VERSION:2.0
PRODID:-//DISID - ECPv5.1.1//NONSGML v1.0//EN
CALSCALE:GREGORIAN
METHOD:PUBLISH
X-WR-CALNAME:DISID
X-ORIGINAL-URL:https://disid.guam.gov
X-WR-CALDESC:Events for DISID
BEGIN:VTIMEZONE
TZID:UTC
BEGIN:STANDARD
TZOFFSETFROM:+0000
TZOFFSETTO:+0000
TZNAME:UTC
DTSTART:20180101T000000
END:STANDARD
END:VTIMEZONE
BEGIN:VEVENT
DTSTART;TZID=UTC:20180731T100000
DTEND;TZID=UTC:20180731T120000
DTSTAMP:20260423T203655
CREATED:20180628T152008Z
LAST-MODIFIED:20180628T152008Z
UID:3161-1533031200-1533038400@disid.guam.gov
SUMMARY:"ADA Recognition & Awards Presentation" presented by DISID Director\, Ben S. Servino
DESCRIPTION:“ADA Recognition & Awards Presentation” presented by DISID Director\, Ben S. Servino \nTues.\, July 31st (10am-12pm) \n
URL:https://disid.guam.gov/event/ada-recognition-awards-presentation-presented-by-disid-director-ben-s-servino/
LOCATION:DVR Conf. Room 6th Floor DNA Bldg.
CATEGORIES:Conference/Workshop
END:VEVENT
END:VCALENDAR