BEGIN:VCALENDAR
VERSION:2.0
PRODID:-//DISID - ECPv5.1.1//NONSGML v1.0//EN
CALSCALE:GREGORIAN
METHOD:PUBLISH
X-WR-CALNAME:DISID
X-ORIGINAL-URL:https://disid.guam.gov
X-WR-CALDESC:Events for DISID
BEGIN:VTIMEZONE
TZID:UTC
BEGIN:STANDARD
TZOFFSETFROM:+0000
TZOFFSETTO:+0000
TZNAME:UTC
DTSTART:20180101T000000
END:STANDARD
END:VTIMEZONE
BEGIN:VEVENT
DTSTART;TZID=UTC:20180629T153000
DTEND;TZID=UTC:20180629T173000
DTSTAMP:20260422T214107
CREATED:20180628T143148Z
LAST-MODIFIED:20180628T143212Z
UID:3139-1530286200-1530293400@disid.guam.gov
SUMMARY:ADA Proclamation Signing conducted by the Honorable Lt. Governor Ray Tenorio
DESCRIPTION:“ADA Proclamation Signing”\nconducted by the Honorable Lt. Governor Ray Tenorio  \nLarge Cabinet Conference Room\, Adelup \n
URL:https://disid.guam.gov/event/ada-proclamation-signing/
LOCATION:Large Cabinet Conference Room\, Adelup
CATEGORIES:Conference/Workshop
END:VEVENT
END:VCALENDAR