BEGIN:VCALENDAR
VERSION:2.0
PRODID:-//DISID - ECPv5.1.1//NONSGML v1.0//EN
CALSCALE:GREGORIAN
METHOD:PUBLISH
X-WR-CALNAME:DISID
X-ORIGINAL-URL:https://disid.guam.gov
X-WR-CALDESC:Events for DISID
BEGIN:VTIMEZONE
TZID:UTC
BEGIN:STANDARD
TZOFFSETFROM:+0000
TZOFFSETTO:+0000
TZNAME:UTC
DTSTART:20180101T000000
END:STANDARD
END:VTIMEZONE
BEGIN:VEVENT
DTSTART;TZID=UTC:20180712T090000
DTEND;TZID=UTC:20180712T110000
DTSTAMP:20260422T181736
CREATED:20180628T144502Z
LAST-MODIFIED:20180628T144502Z
UID:3145-1531386000-1531393200@disid.guam.gov
SUMMARY:"Accessible Website Requirements" presented by Flametree Freedom Center\, Inc. Staff
DESCRIPTION:“Accessible Website Requirements” presented by Flametree Freedom Center\, Inc. Staff \nThurs.\, July 12th (9-11am) \n
URL:https://disid.guam.gov/event/accessible-website-requirements-presented-by-flametree-freedom-center-inc-staff/
LOCATION:DVR Conf. Room 6th Floor DNA Bldg.
CATEGORIES:Conference/Workshop
END:VEVENT
END:VCALENDAR