BEGIN:VCALENDAR
VERSION:2.0
PRODID:-//DISID - ECPv5.1.1//NONSGML v1.0//EN
CALSCALE:GREGORIAN
METHOD:PUBLISH
X-WR-CALNAME:DISID
X-ORIGINAL-URL:https://disid.guam.gov
X-WR-CALDESC:Events for DISID
BEGIN:VTIMEZONE
TZID:UTC
BEGIN:STANDARD
TZOFFSETFROM:+0000
TZOFFSETTO:+0000
TZNAME:UTC
DTSTART:20180101T000000
END:STANDARD
END:VTIMEZONE
BEGIN:VEVENT
DTSTART;TZID=UTC:20180730T090000
DTEND;TZID=UTC:20180730T110000
DTSTAMP:20260423T171444
CREATED:20180628T151834Z
LAST-MODIFIED:20180628T151835Z
UID:3160-1532941200-1532948400@disid.guam.gov
SUMMARY:"Accessible Toilet Requirements" presented by Rim Architects
DESCRIPTION:“Accessible Toilet Requirements” presented by Rim Architects \nMon.\, July 30th (9-11am) \n
URL:https://disid.guam.gov/event/accessible-toilet-requirements-presented-by-rim-architects/
LOCATION:DVR Conf. Room 6th Floor DNA Bldg.
CATEGORIES:Conference/Workshop
END:VEVENT
END:VCALENDAR