BEGIN:VCALENDAR
VERSION:2.0
PRODID:-//DISID - ECPv5.1.1//NONSGML v1.0//EN
CALSCALE:GREGORIAN
METHOD:PUBLISH
X-WR-CALNAME:DISID
X-ORIGINAL-URL:https://disid.guam.gov
X-WR-CALDESC:Events for DISID
BEGIN:VTIMEZONE
TZID:UTC
BEGIN:STANDARD
TZOFFSETFROM:+0000
TZOFFSETTO:+0000
TZNAME:UTC
DTSTART:20180101T000000
END:STANDARD
END:VTIMEZONE
BEGIN:VEVENT
DTSTART;TZID=UTC:20180726T090000
DTEND;TZID=UTC:20180726T110000
DTSTAMP:20260423T120245
CREATED:20180628T151133Z
LAST-MODIFIED:20180628T151133Z
UID:3155-1532595600-1532602800@disid.guam.gov
SUMMARY:"Accessible Parking Requirements" presented by DISID Social Worker\, Jeff Warfield
DESCRIPTION:“Accessible Parking Requirements” presented by DISID Social Worker\, Jeff Warfield \nThurs.\, July 26th (9-11am) \n
URL:https://disid.guam.gov/event/accessible-parking-requirements-presented-by-disid-social-worker-jeff-warfield-2/
LOCATION:DVR Conf. Room 6th Floor DNA Bldg.
CATEGORIES:Conference/Workshop
END:VEVENT
END:VCALENDAR