BEGIN:VCALENDAR
VERSION:2.0
PRODID:-//DISID - ECPv5.1.1//NONSGML v1.0//EN
CALSCALE:GREGORIAN
METHOD:PUBLISH
X-WR-CALNAME:DISID
X-ORIGINAL-URL:https://disid.guam.gov
X-WR-CALDESC:Events for DISID
BEGIN:VTIMEZONE
TZID:UTC
BEGIN:STANDARD
TZOFFSETFROM:+0000
TZOFFSETTO:+0000
TZNAME:UTC
DTSTART:20180101T000000
END:STANDARD
END:VTIMEZONE
BEGIN:VEVENT
DTSTART;TZID=UTC:20180725T080000
DTEND;TZID=UTC:20180725T120000
DTSTAMP:20260423T083557
CREATED:20180628T150953Z
LAST-MODIFIED:20180628T150953Z
UID:3154-1532505600-1532520000@disid.guam.gov
SUMMARY:"A Day in A Life Disability Simulation Activity" participants include GovGuam & Private Businesses
DESCRIPTION:“A Day in A Life Disability Simulation Activity” participants include GovGuam & Private Businesses \nWed.\, July 25th (8am-12pm) \n
URL:https://disid.guam.gov/event/a-day-in-a-life-disability-simulation-activity-participants-include-govguam-private-businesses/
LOCATION:DVR Conf. Room 6th Floor DNA Bldg.
CATEGORIES:Conference/Workshop
END:VEVENT
END:VCALENDAR