BEGIN:VCALENDAR
VERSION:2.0
PRODID:-//DISID - ECPv5.1.1//NONSGML v1.0//EN
CALSCALE:GREGORIAN
METHOD:PUBLISH
X-WR-CALNAME:DISID
X-ORIGINAL-URL:https://disid.guam.gov
X-WR-CALDESC:Events for DISID
BEGIN:VTIMEZONE
TZID:UTC
BEGIN:STANDARD
TZOFFSETFROM:+0000
TZOFFSETTO:+0000
TZNAME:UTC
DTSTART:20190101T000000
END:STANDARD
END:VTIMEZONE
BEGIN:VEVENT
DTSTART;TZID=UTC:20191001T100000
DTEND;TZID=UTC:20191001T110000
DTSTAMP:20260425T031227
CREATED:20190916T204040Z
LAST-MODIFIED:20190916T204040Z
UID:3394-1569924000-1569927600@disid.guam.gov
SUMMARY:2019 National Disability Employment Awareness Month Proclamation Signing
DESCRIPTION:Please join us at the Governor’s Proclamation Signing on Tuesday\, October 1\, 2019 at 10:00 a.m. proclaiming October as National Disability Employment Awareness Month —  “The Right Talent\, Right Now  at the Governor’s Large Conference ROOM\, ADELUP\, GUAM. \n  \n \n
URL:https://disid.guam.gov/event/2019-national-disability-employment-awareness-month-proclamation-signing/
LOCATION:Large Cabinet Conference Room\, Adelup
END:VEVENT
END:VCALENDAR